BEGIN:VCALENDAR
VERSION:2.0
PRODID:-//Squarespace Inc/Squarespace 6//v6//EN
BEGIN:VEVENT
UID:5e4a12ac7a7f2c7e5e696273@squarespace.com
DTSTAMP:20200217T084501Z
DTSTART:20200214T060000Z
DTEND:20200315T110000Z
SUMMARY:SUPERBANGER - AT THE ROYAL CROQUET CLUB - ADELAIDE FRINGE 2020
END:VEVENT
END:VCALENDAR
