BEGIN:VCALENDAR
VERSION:2.0
PRODID:-//Squarespace Inc/Squarespace 6//v6//EN
BEGIN:VEVENT
UID:5db8fe09ec53750aa84afec9@squarespace.com
DTSTAMP:20191114T113130Z
DTSTART:20191121T220000Z
DTEND:20191123T020000Z
SUMMARY:Alliance Française French Market
END:VEVENT
END:VCALENDAR
